BEGIN:VCALENDAR
VERSION:2.0
PRODID:Events Booking
BEGIN:VEVENT
UID:69e96193f3274
SUMMARY:The use of comics as a means of developing social and cognitive ski
 lls in preschool and school-aged children. A presentation for parents and 
 teacher. - Nasia Sotiropoulou
DESCRIPTION:How does the comic help the cognitive and social development of
  the child? How can every teacher/parent apply it\, \"has or does not have
 \" familiarity with technology or drawing Technique of using the comic for
  children attending Special and General primary school? Adaptation to Spec
 ial Education: ways of applying the technique to students with impaired vi
 sion\, motor difficulties\, and students without oral and/or written langu
 age.
LOCATION:Karnagio\, 8\, Πλατεία Γεωργίου Κατεχάκη\, 
 Kastelli\, Chania\, Municipality of Chania\, Chania Regional Unit\, Region
  of Crete\, 731 32\, Greece
DTSTART:20240922T160000Z
DTEND:20240922T170000Z
DTSTAMP:20240829T130529Z
ORGANIZER;CN=Chaniartoon - International Comic & Animation Festival:MAILTO:
 info@chaniartoonfest.gr
GEO:35.518247;24.02048
X-APPLE-STRUCTURED-LOCATION;VALUE=URI;X-ADDRESS=Karnagio\, 8\, Πλατεί
 α Γεωργίου Κατεχάκη\, Kastelli\, Chania\, Municipality of
  Chania\, Chania Regional Unit\, Region of Crete\, 731 32\, Greece;X-APPLE
 -RADIUS=72;X-TITLE=Theatre Mikis Theodorakis:35.518247;24.02048
END:VEVENT
END:VCALENDAR