BEGIN:VCALENDAR
VERSION:2.0
PRODID:Events Booking
BEGIN:VEVENT
UID:69eba6731bc8e
SUMMARY:Αudience Award - Best Films 2024
DESCRIPTION:The audience's beloved event is back. On a special evening\, th
 e 12 best films of this year will be screened\, and the audience will vote
  live from their mobile phones for their favourite film to win this year's
  audience award.Free entrance. Ages:16+
 Click to view the film list.
 
 
 &nbsp\;
LOCATION:Char.Ploumidaki\, Κούμ Καπί\, Chania\, Municipality of Cha
 nia\, Chania Regional Unit\, Region of Crete\, 731 34\, Greece
DTSTART:20240914T180000Z
DTSTAMP:20240829T044713Z
ORGANIZER;CN=Chaniartoon - International Comic & Animation Festival:MAILTO:
 info@chaniartoonfest.gr
GEO:35.512238;24.025136
X-APPLE-STRUCTURED-LOCATION;VALUE=URI;X-ADDRESS=Char.Ploumidaki\, Κούμ 
 Καπί\, Chania\, Municipality of Chania\, Chania Regional Unit\, Region
  of Crete\, 731 34\, Greece;X-APPLE-RADIUS=72;X-TITLE=Chania Cine \"Garden
 \":35.512238;24.025136
END:VEVENT
END:VCALENDAR