BEGIN:VCALENDAR
VERSION:2.0
PRODID:Events Booking
BEGIN:VEVENT
UID:69e9d48215a50
SUMMARY:Vavagiannis - Petropoulos LIVE
DESCRIPTION:Books &amp\; Beers extended !Το Σάββατο 22 Ιουνί
 ου\, στις 21.00 στον πεζόδρομο της Τσουδερώ
 ν\, στο πλαίσιο του Books &amp\; Beers\, θα πραγματ
 οποιηθεί ένα ξεχωριστό Live Sketching με τον Αν
 τώνη Βαβαγιάννη και τον Θανάση Πετρόπου
 λο !!
LOCATION:93\, Τσουδερών\, Σπλάντζια\, Χανιά\, Δήμ
 ος Χανίων\, Περιφερειακή Ενότητα Χανίων\,
  Περιφέρεια Κρήτης\, Αποκεντρωμένη Διοίκ
 ηση Κρήτης\, 731 32\, Ελλάδα
DTSTART:20240622T180000Z
DTEND:20240622T200000Z
DTSTAMP:20240604T052151Z
ORGANIZER;CN=Chaniartoon - International Comic & Animation Festival:MAILTO:
 info@chaniartoonfest.gr
GEO:35.515234;24.021488
X-APPLE-STRUCTURED-LOCATION;VALUE=URI;X-ADDRESS=93\, Τσουδερών\, 
 Σπλάντζια\, Χανιά\, Δήμος Χανίων\, Περιφερ
 ειακή Ενότητα Χανίων\, Περιφέρεια Κρήτης
 \, Αποκεντρωμένη Διοίκηση Κρήτης\, 731 32\, Ε
 λλάδα;X-APPLE-RADIUS=72;X-TITLE=Terra Verde:35.515234;24.021488
END:VEVENT
END:VCALENDAR