BEGIN:VCALENDAR
VERSION:2.0
PRODID:Events Booking
BEGIN:VEVENT
UID:69eb41a7428ff
SUMMARY:When the story becomes a comic and the comic becomes a narrative: H
 arris Papaemmanouil\, Vania Stambolaki
DESCRIPTION:What is the meaning of images in a story? What do comic book so
 unds sound like? What can theater\, comics and storytelling have to do wit
 h each other? In this workshop we will play\, try\, discuss\, listen\, dra
 w and tell stories! We will bring stories to life and travel with our imag
 ination! And all this\, in the company of comics!!!
 *Participation in al
 l workshops is free. Instead of a fee\, you can donate stationery (pencils
 \, erasers\, sharpeners\, crayons\, drawing blocks\, etc.)\, which will be
  donated to the children of the Association of Voluntary Offering and Supp
 ort “Orizondas”.
LOCATION:Karnagio\, 8\, Πλατεία Γεωργίου Κατεχάκη\, 
 Kastelli\, Chania\, Municipality of Chania\, Chania Regional Unit\, Region
  of Crete\, 731 32\, Greece
DTSTART:20240922T083000Z
DTEND:20240922T100000Z
DTSTAMP:20240829T072436Z
ORGANIZER;CN=Chaniartoon - International Comic & Animation Festival:MAILTO:
 info@chaniartoonfest.gr
GEO:35.518247;24.02048
X-APPLE-STRUCTURED-LOCATION;VALUE=URI;X-ADDRESS=Karnagio\, 8\, Πλατεί
 α Γεωργίου Κατεχάκη\, Kastelli\, Chania\, Municipality of
  Chania\, Chania Regional Unit\, Region of Crete\, 731 32\, Greece;X-APPLE
 -RADIUS=72;X-TITLE=Theatre Mikis Theodorakis:35.518247;24.02048
END:VEVENT
END:VCALENDAR