BEGIN:VCALENDAR
VERSION:2.0
PRODID:Events Booking
BEGIN:VEVENT
UID:69eb2df42e435
SUMMARY:Zorbas – Beautiful green stone
DESCRIPTION:Marina Aretaki\, Ph.D. in Modern Greek Philology of the Sorbonn
 e University\, Paraskevi Vasiliadis\, curator of collections and deputy di
 rector of the Nikos Kazantzakis Museum\, present the new graphic novel \"Z
 ORBAS\, green stone Beauty\" by Antonis Nikolopoulos (Soloúp) from \"Diop
 tra\" publications with the presence of the creator.An interesting discuss
 ion about Nikos Kazantzakis\, the conception\, creation\, and composition 
 of Antonis Nikolopoulos (Soloúp). \"How to take on this Dragon?\" writes 
 Kazantzakis about Zorba. How to face two dragons today\, with Nikos Kazant
 akis and Zorbas\, even using the language of comics to re-render the iconi
 c and much-translated novel Life and State of Alexis Zorbas? In addition t
 o having to fight the myth and the dominant image of the character\, as em
 bodied by Anthony Quinn in Michalis Kakogianni's film Zorba the Greek? Lif
 e\, love\, God\, death\, Dionysus\, Buddha\, Nietzsche\, Bergson\, Shakesp
 eare\, Dante\, Rodin... Soloúp in the graphic novel \"ZORBAS\, green ston
 e beautiful\" does not make a simple metaphor but attempts to retell the e
 pisodes of the specific novel. It interferes with the flow and rearranges 
 the iconic stories while at the same time trying to avoid the strong stere
 otypes of the cinematic Zorba. Thus\, following the spirit of the Kazantza
 kis text\, he proposes a new narrative of word and image\, a new journey\,
  philosophical\, grotesque\, and tragic\, to the modern reader. (from the 
 back cover of the book)
 Speakers: Antonis Nikolopoulos (Soloup)\, Marina
  Aretaki\, Paraskevi Vasiliadis
LOCATION:Karnagio\, 8\, Πλατεία Γεωργίου Κατεχάκη\, 
 Kastelli\, Chania\, Municipality of Chania\, Chania Regional Unit\, Region
  of Crete\, 731 32\, Greece
DTSTART:20240926T170000Z
DTEND:20240926T183000Z
DTSTAMP:20240830T080826Z
ORGANIZER;CN=Chaniartoon - International Comic & Animation Festival:MAILTO:
 info@chaniartoonfest.gr
GEO:35.518247;24.02048
X-APPLE-STRUCTURED-LOCATION;VALUE=URI;X-ADDRESS=Karnagio\, 8\, Πλατεί
 α Γεωργίου Κατεχάκη\, Kastelli\, Chania\, Municipality of
  Chania\, Chania Regional Unit\, Region of Crete\, 731 32\, Greece;X-APPLE
 -RADIUS=72;X-TITLE=Theatre Mikis Theodorakis:35.518247;24.02048
END:VEVENT
END:VCALENDAR